BEGIN:VCALENDAR
VERSION:2.0
PRODID:-//Ocean Observatories Initiative - ECPv6.2.0.1//NONSGML v1.0//EN
CALSCALE:GREGORIAN
METHOD:PUBLISH
X-ORIGINAL-URL:https://oceanobservatories.org
X-WR-CALDESC:Events for Ocean Observatories Initiative
REFRESH-INTERVAL;VALUE=DURATION:PT1H
X-Robots-Tag:noindex
X-PUBLISHED-TTL:PT1H
BEGIN:VTIMEZONE
TZID:America/New_York
BEGIN:DAYLIGHT
TZOFFSETFROM:-0500
TZOFFSETTO:-0400
TZNAME:EDT
DTSTART:20200308T070000
END:DAYLIGHT
BEGIN:STANDARD
TZOFFSETFROM:-0400
TZOFFSETTO:-0500
TZNAME:EST
DTSTART:20201101T060000
END:STANDARD
BEGIN:DAYLIGHT
TZOFFSETFROM:-0500
TZOFFSETTO:-0400
TZNAME:EDT
DTSTART:20210314T070000
END:DAYLIGHT
BEGIN:STANDARD
TZOFFSETFROM:-0400
TZOFFSETTO:-0500
TZNAME:EST
DTSTART:20211107T060000
END:STANDARD
BEGIN:DAYLIGHT
TZOFFSETFROM:-0500
TZOFFSETTO:-0400
TZNAME:EDT
DTSTART:20220313T070000
END:DAYLIGHT
BEGIN:STANDARD
TZOFFSETFROM:-0400
TZOFFSETTO:-0500
TZNAME:EST
DTSTART:20221106T060000
END:STANDARD
BEGIN:DAYLIGHT
TZOFFSETFROM:-0500
TZOFFSETTO:-0400
TZNAME:EDT
DTSTART:20230312T070000
END:DAYLIGHT
BEGIN:STANDARD
TZOFFSETFROM:-0400
TZOFFSETTO:-0500
TZNAME:EST
DTSTART:20231105T060000
END:STANDARD
END:VTIMEZONE
BEGIN:VEVENT
DTSTART;TZID=America/New_York:20230827T080000
DTEND;TZID=America/New_York:20230827T170000
DTSTAMP:20260425T181238
CREATED:20230623T143536Z
LAST-MODIFIED:20230623T143536Z
UID:26442-1693123200-1693155600@oceanobservatories.org
SUMMARY:Global Irminger Sea Array Expedition
DESCRIPTION:
URL:https://oceanobservatories.org/event/global-irminger-sea-array-expedition/
LOCATION:Reykjavik\, Reykjavik\, Iceland
CATEGORIES:Expedition
END:VEVENT
BEGIN:VEVENT
DTSTART;TZID=America/New_York:20230811T080000
DTEND;TZID=America/New_York:20230811T170000
DTSTAMP:20260425T181238
CREATED:20230623T143219Z
LAST-MODIFIED:20230623T143219Z
UID:26438-1691740800-1691773200@oceanobservatories.org
SUMMARY:Regional Cabled Array VISIONS Expedition
DESCRIPTION:
URL:https://oceanobservatories.org/event/regional-cabled-array-visions-expedition/
LOCATION:Newport\, OR\, Newport\, United States
CATEGORIES:Expedition
END:VEVENT
BEGIN:VEVENT
DTSTART;TZID=America/New_York:20200801T080000
DTEND;TZID=America/New_York:20200831T170000
DTSTAMP:20260425T181238
CREATED:20200706T230235Z
LAST-MODIFIED:20200706T230235Z
UID:17721-1596268800-1598893200@oceanobservatories.org
SUMMARY:Regional Cabled Array  Operation and Management Expedition
DESCRIPTION:R/V Thomas G. Thompson\nChief Scientist: Deb Kelley\, University of Washington\n12-member scientific party
URL:https://oceanobservatories.org/event/regional-cabled-array-operation-and-management-expedition/
CATEGORIES:Expedition
END:VEVENT
BEGIN:VEVENT
DTSTART;TZID=America/New_York:20200801T080000
DTEND;TZID=America/New_York:20200831T170000
DTSTAMP:20260425T181238
CREATED:20200706T225726Z
LAST-MODIFIED:20200706T225726Z
UID:17718-1596268800-1598893200@oceanobservatories.org
SUMMARY:Irminger Sea Array  Operation and Management Expedition
DESCRIPTION:R/V Thomas G. Thompson\nChief Scientist: Sebastien Bigorre\, Woods Hole Oceanographic Institution\n12-member scientific party
URL:https://oceanobservatories.org/event/irminger-sea-array-operation-and-management-expedition/
CATEGORIES:Expedition
END:VEVENT
END:VCALENDAR